BEGIN:VCALENDAR
VERSION:2.0
PRODID:SchoolNow
CALSCALE:GREGORIAN
BEGIN:VEVENT
UID:d906ec26-662e-11ef-aac5-0e95141ca879
DTSTAMP:20241107T230207Z
SUMMARY:SAU 24 Board Meeting/Public Hearing
LOCATION:John Stark Regional High School (Room 144)
URL;VALUE=URI:https://www.sau24.org/calendar/6481768/sau-24-board-meeting-p
 ublic-hearing
DTSTART:20241118T230000Z
DTEND:20241119T010000Z
END:VEVENT
END:VCALENDAR
